BEGIN:VCALENDAR
VERSION:2.0
PRODID:Events Booking
BEGIN:VEVENT
UID:69e73a07d8798
SUMMARY:5-a-side Soccer Medal Ceremony
DESCRIPTION:5-a-side Soccer - https://niagara2025ontarioparasportgames.ca/e
 n/news/5-a-side-soccer
LOCATION:University Rd W\, St. Catharines\, ON L2S 3A1\, Canada
DTSTART:20250601T113000Z
DTEND:20250601T120000Z
DTSTAMP:20250516T185745Z
ORGANIZER;CN=Niagara 2025 ParaSport Games:MAILTO:info@niagara2025ontariopar
 asportgames.ca
GEO:43.119049;-79.25557
X-APPLE-STRUCTURED-LOCATION;VALUE=URI;X-ADDRESS=University Rd W\, St. Catha
 rines\, ON L2S 3A1\, Canada;X-APPLE-RADIUS=72;X-TITLE=Brock Alumni Turf Fi
 eld:43.119049;-79.25557
END:VEVENT
END:VCALENDAR