BEGIN:VCALENDAR
VERSION:2.0
PRODID:Events Booking
BEGIN:VEVENT
UID:69e4d0e0bdd2b
SUMMARY:Wheelchair Basketball Game 6
DESCRIPTION:Wheelchair Basketball - https://niagara2025ontarioparasportgame
 s.ca/en/news/wheelchair-basketball
LOCATION:2021 Canada Games Wy\, Thorold\, ON L2V 4Y6\, Canada
DTSTART:20250531T170000Z
DTEND:20250531T183000Z
DTSTAMP:20250516T212712Z
ORGANIZER;CN=Niagara 2025 ParaSport Games:MAILTO:info@niagara2025ontariopar
 asportgames.ca
GEO:43.151537;-79.458613
X-APPLE-STRUCTURED-LOCATION;VALUE=URI;X-ADDRESS=2021 Canada Games Wy\, Thor
 old\, ON L2V 4Y6\, Canada;X-APPLE-RADIUS=72;X-TITLE=Canadian Tire Triangle
  Gymnasium - Courts 2-3:43.151537;-79.458613
END:VEVENT
END:VCALENDAR