BEGIN:VCALENDAR
VERSION:2.0
PRODID:Events Booking
BEGIN:VEVENT
UID:69e74fa7841ef
SUMMARY:boccia Cérémonie de remise des médailles
DESCRIPTION:Boccia - https://niagara2025ontarioparasportgames.ca/fr/nouvell
 es/boccia
LOCATION:2021 Canada Games Wy\, Thorold\, ON L2V 4Y6\, Canada
DTSTART:20250601T143000Z
DTEND:20250601T150000Z
DTSTAMP:20250516T193603Z
ORGANIZER;CN=Niagara 2025 ParaSport Games:MAILTO:info@niagara2025ontariopar
 asportgames.ca
GEO:43.151537;-79.458613
X-APPLE-STRUCTURED-LOCATION;VALUE=URI;X-ADDRESS=2021 Canada Games Wy\, Thor
 old\, ON L2V 4Y6\, Canada;X-APPLE-RADIUS=72;X-TITLE=Aréna environnemental
  GFL:43.151537;-79.458613
END:VEVENT
END:VCALENDAR