BEGIN:VCALENDAR
VERSION:2.0
PRODID:Events Booking
BEGIN:VEVENT
UID:69e750221a97e
SUMMARY:Cérémonie des médailles en volleyball assis
DESCRIPTION:volleyball assis - https://niagara2025ontarioparasportgames.ca/
 fr/nouvelles/volleyball-assis
LOCATION:1812 Sir Isaac Brock Way\, St. Catharines\, ON L2S 3A1\, Canada
DTSTART:20250531T163000Z
DTEND:20250531T170000Z
DTSTAMP:20250516T211517Z
ORGANIZER;CN=Niagara 2025 ParaSport Games:MAILTO:info@niagara2025ontariopar
 asportgames.ca
GEO:43.11571;-79.247688
X-APPLE-STRUCTURED-LOCATION;VALUE=URI;X-ADDRESS=1812 Sir Isaac Brock Way\, 
 St. Catharines\, ON L2S 3A1\, Canada;X-APPLE-RADIUS=72;X-TITLE=Gymnase 2 d
 e l'Université Brock:43.11571;-79.247688
END:VEVENT
END:VCALENDAR