BEGIN:VCALENDAR
VERSION:2.0
PRODID:Events Booking
BEGIN:VEVENT
UID:69e750171e307
SUMMARY:goalball Cérémonie de remise des médailles
DESCRIPTION:Goalball - https://niagara2025ontarioparasportgames.ca/fr/nouve
 lles/goalball
LOCATION:Sir Isaac Brock Way\, St. Catharines\, L2S 3A1 Ontario\, Canada
DTSTART:20250601T120000Z
DTEND:20250601T123000Z
DTSTAMP:20250516T203937Z
ORGANIZER;CN=Niagara 2025 ParaSport Games:MAILTO:info@niagara2025ontariopar
 asportgames.ca
GEO:43.117735;-79.249857
X-APPLE-STRUCTURED-LOCATION;VALUE=URI;X-ADDRESS=Sir Isaac Brock Way\, St. C
 atharines\, L2S 3A1 Ontario\, Canada;X-APPLE-RADIUS=72;X-TITLE=Gymnase Bob
  Davis:43.117735;-79.249857
END:VEVENT
END:VCALENDAR