BEGIN:VCALENDAR
VERSION:2.0
PRODID:Events Booking
BEGIN:VEVENT
UID:69e74fb67b5c8
SUMMARY:Para athlétisme Cérémonie de remise des médailles
DESCRIPTION:Para athlétisme - 
 https://niagara2025ontarioparasportgames.
 ca/fr/nouvelles/para-athletisme
LOCATION:2021 Canada Games Wy\, Thorold\, ON L2V 4Y6\, Canada
DTSTART:20250531T160000Z
DTEND:20250531T163000Z
DTSTAMP:20250516T204432Z
ORGANIZER;CN=Niagara 2025 ParaSport Games:MAILTO:info@niagara2025ontariopar
 asportgames.ca
GEO:43.151537;-79.458613
X-APPLE-STRUCTURED-LOCATION;VALUE=URI;X-ADDRESS=2021 Canada Games Wy\, Thor
 old\, ON L2V 4Y6\, Canada;X-APPLE-RADIUS=72;X-TITLE=Centre international d
 'athlétisme GFL Environmental:43.151537;-79.458613
END:VEVENT
END:VCALENDAR