BEGIN:VCALENDAR
VERSION:2.0
PRODID:Events Booking
BEGIN:VEVENT
UID:69e74f69e3721
SUMMARY:paragolf Cérémonie de remise des médailles
DESCRIPTION:paragolf - https://niagara2025ontarioparasportgames.ca/fr/nouve
 lles/paragolf
LOCATION:105 S Pelham Rd\, Welland\, ON L0S 1M0\, Canada
DTSTART:20250601T200000Z
DTEND:20250601T203000Z
DTSTAMP:20250516T195638Z
ORGANIZER;CN=Niagara 2025 ParaSport Games:MAILTO:info@niagara2025ontariopar
 asportgames.ca
GEO:42.978182;-79.28898
X-APPLE-STRUCTURED-LOCATION;VALUE=URI;X-ADDRESS=105 S Pelham Rd\, Welland\,
  ON L0S 1M0\, Canada;X-APPLE-RADIUS=72;X-TITLE=Cardinal Lakes Golf Club:42
 .978182;-79.28898
END:VEVENT
END:VCALENDAR