BEGIN:VCALENDAR
VERSION:2.0
PRODID:Events Booking
BEGIN:VEVENT
UID:69e74ff34179e
SUMMARY:paranatation Cérémonie de remise des médailles
DESCRIPTION:paranatation - https://niagara2025ontarioparasportgames.ca/fr/n
 ouvelles/para-swimming
LOCATION:1812 Sir Isaac Brock Way\, St. Catharines\, ON L2S 3A1
DTSTART:20250531T170000Z
DTEND:20250531T173000Z
DTSTAMP:20250516T205533Z
ORGANIZER;CN=Niagara 2025 ParaSport Games:MAILTO:info@niagara2025ontariopar
 asportgames.ca
GEO:43.117735;-79.249857
X-APPLE-STRUCTURED-LOCATION;VALUE=URI;X-ADDRESS=1812 Sir Isaac Brock Way\, 
 St. Catharines\, ON L2S 3A1;X-APPLE-RADIUS=72;X-TITLE=le centre aquatique 
 Eleanor Misener:43.117735;-79.249857
END:VEVENT
END:VCALENDAR