BEGIN:VCALENDAR
VERSION:2.0
PRODID:Events Booking
BEGIN:VEVENT
UID:69e7505f70a9b
SUMMARY:Tennis en fauteuil roulant Cérémonie de remise des médailles
DESCRIPTION:Tennis en fauteuil roulant - https://niagara2025ontarioparaspor
 tgames.ca/fr/nouvelles/tennis-en-fauteuil-roulant 
LOCATION:1812 Sir Isaac Brock Way\, St. Catharines\, L2S 3A1 Ontario\, Cana
 da
DTSTART:20250601T130000Z
DTEND:20250601T133000Z
DTSTAMP:20250516T214540Z
ORGANIZER;CN=Niagara 2025 ParaSport Games:MAILTO:info@niagara2025ontariopar
 asportgames.ca
GEO:43.117735;-79.249857
X-APPLE-STRUCTURED-LOCATION;VALUE=URI;X-ADDRESS=1812 Sir Isaac Brock Way\, 
 St. Catharines\, L2S 3A1 Ontario\, Canada;X-APPLE-RADIUS=72;X-TITLE=Courts
  de tennis extérieurs de l'Université Brock:43.117735;-79.249857
END:VEVENT
END:VCALENDAR